BEGIN:VCALENDAR
VERSION:2.0
PRODID:-//Contratero//ES
CALSCALE:GREGORIAN
METHOD:PUBLISH
BEGIN:VEVENT
UID:SU.14/2021 SARA@contratero.es
DTSTAMP:20260424T171546Z
DTSTART:20210614T235959
DTEND:20210615T005959
SUMMARY:Cierre: Ampliación de servidores\, software\, almacenamiento
DESCRIPTION:Ampliación de servidores\, software\, almacenamiento y red de Supercomputador ICTS RES-Picasso. Cofinanciación FEDER “Environmental and Biodiversity Climate Change Lab (EnBiC2-Lab)”(Programa Operativo P...\\n\\nOrganismo: Rectorado de la Universidad de Málaga\\n\\nVer en Contratero: https://contratero.es/contracts/SU.14/2021 SARA
URL:https://contratero.es/contracts/SU.14/2021 SARA
STATUS:CONFIRMED
BEGIN:VALARM
TRIGGER:-P1D
ACTION:DISPLAY
DESCRIPTION:Recordatorio: Ampliación de servidores\, soft
END:VALARM
END:VEVENT
END:VCALENDAR